BEGIN:VCALENDAR
VERSION:2.0
PRODID:-//Khon Kaen University - ECPv6.15.19//NONSGML v1.0//EN
CALSCALE:GREGORIAN
METHOD:PUBLISH
X-ORIGINAL-URL:https://kku.ac.th
X-WR-CALDESC:Events for Khon Kaen University
REFRESH-INTERVAL;VALUE=DURATION:PT1H
X-Robots-Tag:noindex
X-PUBLISHED-TTL:PT1H
BEGIN:VTIMEZONE
TZID:Asia/Bangkok
BEGIN:STANDARD
TZOFFSETFROM:+0700
TZOFFSETTO:+0700
TZNAME:+07
DTSTART:20250101T000000
END:STANDARD
END:VTIMEZONE
BEGIN:VEVENT
DTSTART;VALUE=DATE:20260303
DTEND;VALUE=DATE:20260304
DTSTAMP:20260421T205327
CREATED:20260302T033832Z
LAST-MODIFIED:20260302T033832Z
UID:276396-1772496000-1772582399@kku.ac.th
SUMMARY:การแสดงโขนมอดินแดง ตอน  กลพญามาร
DESCRIPTION:ครั้งแรก\nสำหรับการจัดการแสดงโขนมอดินแดง ตอน  กลพญามาร\nโดยนักศึกษาชั้นปีที่2 สาขานาฏยศิลป์(สินไซ 18) และนักแสดงจากโขนมอดินแดง\nโปรดติดตามผลงานพวกเราด้วยนะครับ/ค่ะ\nจัดสอบขึ้นในวันที่ 3 มีนาคม 2569\nณ โรงละครคณะศิลปกรรมศาสตร์ FA Theater \nมหาวิทยาลัยขอนแก่น\nเปิดจำหน่ายบัตรและจับจองที่นั่งเร็วๆนี้ครับ\nฝากติดตามพวกเราต่อไปด้วยนะครับ เร็วๆนี้ พบเจอกันแน่นอนครับ\nฝากเป็นกำลังใจให้นักแสดงของพวกเราด้วยนะครับ\nติดตามความเคลื่อนไหวและข่าวสารต่างๆ ได้ที่ : สินไซ ๑๘ มหาวิทยาลัยขอนแก่น
URL:https://kku.ac.th/th/event/%e0%b8%81%e0%b8%b2%e0%b8%a3%e0%b9%81%e0%b8%aa%e0%b8%94%e0%b8%87%e0%b9%82%e0%b8%82%e0%b8%99%e0%b8%a1%e0%b8%ad%e0%b8%94%e0%b8%b4%e0%b8%99%e0%b9%81%e0%b8%94%e0%b8%87-%e0%b8%95%e0%b8%ad%e0%b8%99/
CATEGORIES:Non degree education,กิจกรรมนักศึกษา,กิจกรรมนักเรียน,กิจกรรมบุคลากร,ศิลปวัฒนธรรม ท่องเที่ยว บันเทิง
ATTACH;FMTTYPE=image/jpeg:https://kku.ac.th/wp-content/uploads/2026/03/622128173_122206388708367096_3308254393964361642_n.jpg
END:VEVENT
BEGIN:VEVENT
DTSTART;TZID=Asia/Bangkok:20260306T090000
DTEND;TZID=Asia/Bangkok:20260306T150000
DTSTAMP:20260421T205327
CREATED:20260216T070243Z
LAST-MODIFIED:20260303T051358Z
UID:273248-1772787600-1772809200@kku.ac.th
SUMMARY:มหกรรม มหาวิทยาลัยขอนแก่น บริการชุมชน 2569
DESCRIPTION:✨ ชาวขอนแก่นเตรียมตัว!\n🎉 งานฟรี “จัดใหญ่ที่สุดต้นปี” มาแล้ว! \n🏛 มหกรรม มหาวิทยาลัยขอนแก่น บริการชุมชน 2569 \nแจกจริง ฟรีจริง กว่า 50 บูท จากมหาวิทยาลัยขอนแก่น 💙 \n👨‍⚕️ ตรวจสุขภาพฟรี\n🦷 ทำฟันฟรี\n💆 นวด & ฝังเข็มฟรี\n❤️ ตรวจหัวใจฟรี\n🐶 ฉีดวัคซีนหมาแมวฟรี\n🎓 อบรมรับเกียรติบัตรฟรี\n📚 แนะแนวการศึกษาต่อจากคณะโดยตรง \nครบทั้งสุขภาพ อาชีพ การเรียนต่อ และบริการสัตวแพทย์\nมางานเดียว ได้ครบทั้งครอบครัว 👨‍👩‍👧‍👦 \n📍 6 มีนาคม 2569\n⏰ 09.00–15.00 น.\n📌 สถานีรถไฟขอนแก่น \nติดตามรายละเอียดเพิ่มเติมได้ที่ ✨ Khon Kaen University – มหาวิทยาลัยขอนแก่น \n[ คลิกดูรายละเอียด ] \n#มหกรรมมหาวิทยาลัยขอนแก่นบริการชุมชน2569\n#มหาวิทยาลัยขอนแก่นบริการชุมชน\n#ของดีขอนแก่น #งานฟรีดีต่อใจ #ตรวจสุขภาพฟรี
URL:https://kku.ac.th/th/event/%e0%b8%a1%e0%b8%ab%e0%b8%81%e0%b8%a3%e0%b8%a3%e0%b8%a1-%e0%b8%a1%e0%b8%ab%e0%b8%b2%e0%b8%a7%e0%b8%b4%e0%b8%97%e0%b8%a2%e0%b8%b2%e0%b8%a5%e0%b8%b1%e0%b8%a2%e0%b8%82%e0%b8%ad%e0%b8%99%e0%b9%81%e0%b8%81/
LOCATION:สถานีรถไฟขอนแก่น : Khon Kaen Railway Station\, Nai Mueang\, Mueang Khon Kaen District\, Khon Kaen 40000\, Mueang Khon Kaen District\, Khon Kaen\, 40000\, Thailand
CATEGORIES:Non degree education,กิจกรรมนักศึกษา,กิจกรรมนักเรียน,กิจกรรมบุคลากร,กิจกรรมเพื่อการกุศล,กีฬา,งานวิจัย,ช่วยเหลือสังคม,ศิลปวัฒนธรรม ท่องเที่ยว บันเทิง,สัตว์เลี้ยง,สิ่งแวดล้อม,สุขภาพ
ATTACH;FMTTYPE=image/jpeg:https://kku.ac.th/wp-content/uploads/2026/02/socialpost-แก้ไข-01.jpg
END:VEVENT
BEGIN:VEVENT
DTSTART;TZID=Asia/Bangkok:20260306T170000
DTEND;TZID=Asia/Bangkok:20260306T200000
DTSTAMP:20260421T205327
CREATED:20260304T054531Z
LAST-MODIFIED:20260304T054531Z
UID:276775-1772816400-1772827200@kku.ac.th
SUMMARY:การแสดงผลงานสุดสร้างสรรค์จากนักศึกษา ในงาน “GE Art Creative and Innovation”
DESCRIPTION:สถาบันการวิชาศึกษาทั่วไป มหาวิทยาลัยขอนแก่น ขอเชิญชวนนักศึกษา บุคลากร และผู้ที่สนใจทุกท่าน\n ร่วมชมการแสดงผลงานสุดสร้างสรรค์จากนักศึกษา ในงาน “GE Art Creative and Innovation”\n วันศุกร์ที่ 6 มีนาคม 2569\n เวลา 17.00 – 20.00 น.\n ณ อาคารพจน์ สารสิน\n\n\nพบกับการปล่อยของครั้งใหญ่จากการรวมพลังของ 4 วิชาสุดฮิต\n\n\n GE 161 892 ศิลป์คิดสร้างสรรค์\n GE 519 741 ต้นกล้านักธุรกิจ\n GE 519 742 นวัตกรรมสร้างสรรค์เพื่อเป้าหมายการพัฒนาที่ยั่งยืน\n GE 363 879 ผู้ประกอบการนวัตกรรม\n\n\nภายในงานพบกับกิจกรรมมากมาย\n นิทรรศการโปสเตอร์และชิ้นงานนวัตกรรม\n ตลาดนัดไอเดียและสินค้าจากนักศึกษา\n การแสดงสุดพิเศษ ที่จะทำให้คุณประทับใจ\n\n\nมาร่วมเป็นกำลังใจและสนับสนุนไอเดียของคนรุ่นใหม่ ที่จะก้าวไปสู่การเป็นนวัตกรและผู้ประกอบการในอนาคต!\nรายละเอียดเพิ่มเติม : https://genedu.kku.ac.th/geartinno69/
URL:https://kku.ac.th/th/event/%e0%b8%81%e0%b8%b2%e0%b8%a3%e0%b9%81%e0%b8%aa%e0%b8%94%e0%b8%87%e0%b8%9c%e0%b8%a5%e0%b8%87%e0%b8%b2%e0%b8%99%e0%b8%aa%e0%b8%b8%e0%b8%94%e0%b8%aa%e0%b8%a3%e0%b9%89%e0%b8%b2%e0%b8%87%e0%b8%aa%e0%b8%a3/
LOCATION:อาคารพจน์ สารสิน\, 123 ถนน มิตรภาพ ในเมือง อ อำเภอเมืองขอนแก่น ขอนแก่น 40002\, Mueang Khon Kaen District\, KhonKaen\, 40002\, Thailand
CATEGORIES:Non degree education,กิจกรรมนักศึกษา,กิจกรรมนักเรียน,กิจกรรมบุคลากร,ศิลปวัฒนธรรม ท่องเที่ยว บันเทิง
ATTACH;FMTTYPE=image/jpeg:https://kku.ac.th/wp-content/uploads/2026/03/645506753_1363633332466351_3022757595056608367_n.jpg
END:VEVENT
BEGIN:VEVENT
DTSTART;VALUE=DATE:20260309
DTEND;VALUE=DATE:20260331
DTSTAMP:20260421T205327
CREATED:20260109T083906Z
LAST-MODIFIED:20260109T084217Z
UID:264968-1773014400-1774915199@kku.ac.th
SUMMARY:พัฒนาทักษะภาษาต่างประเทศ -- ภาษาจีน | ภาษาญี่ปุ่น | ภาษาเกาหลี | ภาษาอังกฤษ
DESCRIPTION:เปิดโลกกว้าง สร้างโอกาสใหม่ให้ชีวิต เริ่มต้นพัฒนาทักษะภาษาต่างประเทศวันนี้ เพื่อก้าวสู่ความสำเร็จในอนาคตที่คุณเลือกได้\n\n\nภาษาจีน | ภาษาญี่ปุ่น | ภาษาเกาหลี | ภาษาอังกฤษ\nเหมาะสำหรับนักเรียน นักศึกษา และบุคคลทั่วไป\n \nรายละเอียดคอร์ส\nระยะเวลาอบรม: 30 ชั่วโมง\nวัน – เวลาเรียน: ทุกวันพุธ และวันศุกร์ เวลา 17.00 – 19.00 น.\nณ คณะมนุษยศาสตร์และสังคมศาสตร์ มหาวิทยาลัยขอนแก่น\n \nเริ่มเรียน: 9 กุมภาพันธ์ – 30 มีนาคม 2569\nค่าลงทะเบียน: 3\,000 บาท/คอร์ส\nจบคอร์สรับ ใบประกาศนียบัตร (Certificate)\n \n\n\nเรียนกับอาจารย์ผู้เชี่ยวชาญ\nเปิดรับสมัครแล้ววันนี้ – 25 มกราคม 2569\n \nสมัครผ่านลิ้งค์ https://kku.world/bkywqf\n 
URL:https://kku.ac.th/th/event/%e0%b8%9e%e0%b8%b1%e0%b8%92%e0%b8%99%e0%b8%b2%e0%b8%97%e0%b8%b1%e0%b8%81%e0%b8%a9%e0%b8%b0%e0%b8%a0%e0%b8%b2%e0%b8%a9%e0%b8%b2%e0%b8%95%e0%b9%88%e0%b8%b2%e0%b8%87%e0%b8%9b%e0%b8%a3%e0%b8%b0%e0%b9%80/
LOCATION:คณะมนุษยศาสตร์และสังคมศาสตร์
CATEGORIES:Non degree education,กิจกรรมนักศึกษา,กิจกรรมนักเรียน,กิจกรรมบุคลากร,หลักสูตรระยะสั้น,หลักสูตรอบรม
ATTACH;FMTTYPE=image/jpeg:https://kku.ac.th/wp-content/uploads/2026/01/คอร์สอบรม-ขนาดโพสต์-Facebook.jpg
END:VEVENT
BEGIN:VEVENT
DTSTART;TZID=Asia/Bangkok:20260311T080000
DTEND;TZID=Asia/Bangkok:20260311T170000
DTSTAMP:20260421T205327
CREATED:20260311T033356Z
LAST-MODIFIED:20260311T033825Z
UID:278332-1773216000-1773248400@kku.ac.th
SUMMARY: Siri Market : ตลาดอิ่มสุข รอบพิเศษเดือนมีนาคม
DESCRIPTION: \n\n\n\n\n Siri Market : ตลาดอิ่มสุข รอบพิเศษเดือนมีนาคม\nชวนทุกท่านมาเลือกช้อปของดี  จากเครือข่ายชุมชนและผู้ประกอบการ มข.\nคุณภาพเยี่ยม ราคาน่ารัก ช้อปเพลิน อิ่มสุขตลอดวัน \n 13 มีนาคม 2569\n 07.30 น. เป็นต้นไป\n หน้ากองบริหารงานกลาง อาคารสิริคุณากร มข. \n พบกับร้านเด่น ร้านดัง จากเครือข่ายและวิสาหกิจชุมชน อาทิ\n – บริษัทซีพีแอกซ์ตร้า\n–  กลุ่มวิสาหกิจบ้านโพธิ์ตาก\n– สวนสลัดจันทร์ดาว\n– นายโด่งไส้กรอก\n– สินค้าเกษตรคุณเจี๊ยบ\n– เมืองอัจฉริยะโนนกู่\n– ตลาดเขียว\n– ชมรมบุคลากรอาวุโส มข. \nช้อปดี มีสุขได้ทุกวัน\nตลาดอิ่มสุข (สินค้าจากบุคลากร มข.) เปิดทุกวัน\n จันทร์ – ศุกร์\n 08.00 – 16.30 น.\n หน้ากองบริหารงานกลาง อาคารสิริคุณากร มข. \n สอบถามเพิ่มเติม\nคุณภาสพันธ์ 50443 | คุณศศิวิมล 50832
URL:https://kku.ac.th/th/event/siri-market-%e0%b8%95%e0%b8%a5%e0%b8%b2%e0%b8%94%e0%b8%ad%e0%b8%b4%e0%b9%88%e0%b8%a1%e0%b8%aa%e0%b8%b8%e0%b8%82-%e0%b8%a3%e0%b8%ad%e0%b8%9a%e0%b8%9e%e0%b8%b4%e0%b9%80%e0%b8%a8%e0%b8%a9/
LOCATION:อาคารสิริคุณากร\, FRC8+94 Khon Kaen\, Mueang Khon Kaen District\, Khon Kaen\, Mueang Khon Kaen District\, Khon Kaen\, 40002\, Thailand
CATEGORIES:Non degree education,กิจกรรมนักศึกษา,กิจกรรมนักเรียน,กิจกรรมบุคลากร
ATTACH;FMTTYPE=image/png:https://kku.ac.th/wp-content/uploads/2026/03/a3-เนื้อหาหน้าลิฟต์-A3.png
ORGANIZER;CN="%E0%B8%9D%E0%B9%88%E0%B8%B2%E0%B8%A2%E0%B8%99%E0%B8%A7%E0%B8%B1%E0%B8%95%E0%B8%81%E0%B8%A3%E0%B8%A3%E0%B8%A1%E0%B9%81%E0%B8%A5%E0%B8%B0%E0%B8%A7%E0%B8%B4%E0%B8%AA%E0%B8%B2%E0%B8%AB%E0%B8%81%E0%B8%B4%E0%B8%88 %E0%B8%AA%E0%B8%B3%E0%B8%99%E0%B8%B1%E0%B8%81%E0%B8%87%E0%B8%B2%E0%B8%99%E0%B8%AD%E0%B8%98%E0%B8%B4%E0%B8%81%E0%B8%B2%E0%B8%A3%E0%B8%9A%E0%B8%94%E0%B8%B5":MAILTO:kku.innoprise@gmail.com
END:VEVENT
BEGIN:VEVENT
DTSTART;TZID=Asia/Bangkok:20260312T100000
DTEND;TZID=Asia/Bangkok:20260312T130000
DTSTAMP:20260421T205327
CREATED:20260309T043514Z
LAST-MODIFIED:20260309T043635Z
UID:277856-1773309600-1773320400@kku.ac.th
SUMMARY:กิจกรรม เติมบุญเติมสุข คณะแพทยศาสตร์
DESCRIPTION:คณะแพทยศาสตร์ มหาวิทยาลัยขอนแก่น\nขอเชิญประชาชนทั่วไป ผู้รับบริการ คณะแพทยศาสตร์ เข้าร่วมกิจกรรม\n\n\nเติมบุญเติมสุข\nในวันพฤหัสบดีที่ 12 มีนาคม 2569\nเวลา 10.00 น. เป็นต้นไป\nณ วิหารพระพุทธชินราชจำลอง โรงพยาบาลศรีนครินทร์ คณะแพทยศาสตร์ มข.\n\n\nพระสงฆ์ที่นิมนต์ : หลวงปู่กิตติศักดิ์ กิตติสาโรเจ้าอาวาสวัดป่าหนองหลุบ ต.แดงใหญ่ อ. เมือง จ.ขอนแก่น
URL:https://kku.ac.th/th/event/%e0%b8%81%e0%b8%b4%e0%b8%88%e0%b8%81%e0%b8%a3%e0%b8%a3%e0%b8%a1-%e0%b9%80%e0%b8%95%e0%b8%b4%e0%b8%a1%e0%b8%9a%e0%b8%b8%e0%b8%8d%e0%b9%80%e0%b8%95%e0%b8%b4%e0%b8%a1%e0%b8%aa%e0%b8%b8%e0%b8%82-%e0%b8%84/
LOCATION:คณะแพทยศาสตร์ Faculty of Medicine\, หมู่ที่ 16 123 Thanon Mittraphap\, Mueang Khon Kaen District\, Khon Kaen 40002\, Mueang Khon Kaen District\, Khon Kaen\, 40002\, Thailand
CATEGORIES:Non degree education,กิจกรรมนักศึกษา,กิจกรรมนักเรียน,กิจกรรมบุคลากร,กิจกรรมเพื่อการกุศล,ศิลปวัฒนธรรม ท่องเที่ยว บันเทิง,สวดมนต์ เจริญภาวนา
ATTACH;FMTTYPE=image/jpeg:https://kku.ac.th/wp-content/uploads/2026/03/649854963_1372243044948487_993609727804785988_n.jpg
ORGANIZER;CN="%E0%B8%84%E0%B8%93%E0%B8%B0%E0%B9%81%E0%B8%9E%E0%B8%97%E0%B8%A2%E0%B8%A8%E0%B8%B2%E0%B8%AA%E0%B8%95%E0%B8%A3%E0%B9%8C Faculty of Medicine":MAILTO:info@md.kku.ac.th
END:VEVENT
BEGIN:VEVENT
DTSTART;TZID=Asia/Bangkok:20260318T160000
DTEND;TZID=Asia/Bangkok:20260318T170000
DTSTAMP:20260421T205327
CREATED:20260302T034859Z
LAST-MODIFIED:20260318T070158Z
UID:276431-1773849600-1773853200@kku.ac.th
SUMMARY:กิจกรรมสวดมนต์ เจริญภาวนา  “ศีล สมาธิ ปัญญา นำชีวาพบสุข”
DESCRIPTION:กิจกรรมสวดมนต์ เจริญภาวนา กับ โครงการส่งเสริมคุณธรรม จริยธรรม สำนักงานอธิการบดี  \n“ศีล สมาธิ ปัญญา นำชีวาพบสุข” \nในวันที่ 18 มีนาคม 2569 เวลา 16.00-17.00 น.\nณ โถงชั้น 1 อาคารสิริคุณากร มหาวิทยาลัยขอนแก่น\n \nสามารถติดตาม วันเวลาของการจัดกิจกรรมล่วงหน้า ได้ที่\nFacebook : https://www.facebook.com/NATSAMOLKKU\nสอบถามเพิ่มเติม กองสื่อสารองค์กร 043-202204
URL:https://kku.ac.th/th/event/%e0%b8%81%e0%b8%b4%e0%b8%88%e0%b8%81%e0%b8%a3%e0%b8%a3%e0%b8%a1%e0%b8%aa%e0%b8%a7%e0%b8%94%e0%b8%a1%e0%b8%99%e0%b8%95%e0%b9%8c-%e0%b9%80%e0%b8%88%e0%b8%a3%e0%b8%b4%e0%b8%8d%e0%b8%a0%e0%b8%b2-15/
LOCATION:อาคารสิริคุณากร\, FRC8+94 Khon Kaen\, Mueang Khon Kaen District\, Khon Kaen\, Mueang Khon Kaen District\, Khon Kaen\, 40002\, Thailand
CATEGORIES:Non degree education,กิจกรรมนักศึกษา,กิจกรรมนักเรียน,กิจกรรมบุคลากร,สวดมนต์ เจริญภาวนา
ATTACH;FMTTYPE=image/jpeg:https://kku.ac.th/wp-content/uploads/2026/03/643551397_1441445424438947_8505584717123246949_n.jpg
END:VEVENT
BEGIN:VEVENT
DTSTART;VALUE=DATE:20260325
DTEND;VALUE=DATE:20260423
DTSTAMP:20260421T205327
CREATED:20260325T072149Z
LAST-MODIFIED:20260325T072149Z
UID:281383-1774396800-1776902399@kku.ac.th
SUMMARY:หลักสูตรอบรมดนตรีระยะสั้น กับหลักสูตร ไวโอลิน • วิโอล่า • เชลโล่ ไม่ว่าจะ “มีพื้นฐาน” หรือ “ไม่มีพื้นฐาน” ก็สามารถสมัครได้
DESCRIPTION:เปิดรับสมัครแล้ว! หลักสูตรอบรมดนตรีระยะสั้น \n\n\nคณะศิลปกรรมศาสตร์ มหาวิทยาลัยขอนแก่น\nขอเชิญน้องๆ อายุ 7–18 ปี ที่สนใจดนตรี เครื่องสายคลาสสิก\nมาเรียนรู้และพัฒนาทักษะกับหลักสูตร ไวโอลิน • วิโอล่า • เชลโล่\nไม่ว่าจะ “มีพื้นฐาน” หรือ “ไม่มีพื้นฐาน” ก็สามารถสมัครได้ \n\n\n เรียนรู้ทั้งทฤษฎี + ปฏิบัติ พร้อมเวที Final Performance\n สอนโดยอาจารย์ผู้เชี่ยวชาญ\n รับจำนวนจำกัดเพียง 10 คน เท่านั้น!\n\n\n เปิดรับสมัคร: 23 มี.ค. – 22 เม.ย. 2569\n ค่าอบรม: 4\,800 บาท / คอร์ส\n\n\n สมัครเลย: https://kku.world/5xzf87\n\n\n สอบถามเพิ่มเติม: 043-202396
URL:https://kku.ac.th/th/event/%e0%b8%ab%e0%b8%a5%e0%b8%b1%e0%b8%81%e0%b8%aa%e0%b8%b9%e0%b8%95%e0%b8%a3%e0%b8%ad%e0%b8%9a%e0%b8%a3%e0%b8%a1%e0%b8%94%e0%b8%99%e0%b8%95%e0%b8%a3%e0%b8%b5%e0%b8%a3%e0%b8%b0%e0%b8%a2%e0%b8%b0%e0%b8%aa/
LOCATION:คณะศิลปกรรมศาสตร์
CATEGORIES:Non degree education,กิจกรรมนักเรียน,หลักสูตรอบรม
ATTACH;FMTTYPE=image/jpeg:https://kku.ac.th/wp-content/uploads/2026/03/657960086_927572383402733_4061429834689267507_n.jpg
END:VEVENT
BEGIN:VEVENT
DTSTART;TZID=Asia/Bangkok:20260325T123000
DTEND;TZID=Asia/Bangkok:20260325T170000
DTSTAMP:20260421T205327
CREATED:20260318T063909Z
LAST-MODIFIED:20260318T064532Z
UID:280105-1774441800-1774458000@kku.ac.th
SUMMARY:งาน KKU DEMO DAY ครั้งที่ 4 (#2/2026)
DESCRIPTION:กลับมาแล้ว! งาน KKU DEMO DAY ครั้งที่ 4 (#2/2026)\nปลดล็อกอนาคตแห่งสุขภาพกับโอกาสต่อยอดนวัตกรรมสู่ธุรกิจ\nการนำเสนอผลงานวิจัยที่โดดเด่นของมหาวิทยาลัยขอนแก่น พร้อมต่อยอดสู่เชิงพาณิชย์\nในแนวคิด “Vital Longevity Innovation นวัตกรรมสำหรับสุขภาพและชีวิตที่ยืนยาว\nโดยความร่วมมือระหว่าง KKU Enterprise และศูนย์นวัตกรรมและการวิจัยมิตรผลขอนแก่น \n\n\n ไฮไลท์งานวิจัย\n• แครกเกอร์ปราศจากกลูเตน เสริมผงจิ้งหรีด\n• ผลิตภัณฑ์เวย์โปรตีนที่มีส่วนผสมของโพรไบโอติก\n• สูตรนมผงข้าวเหนียวดำฮางงอก\n• ถั่วเหลืองผักแพ้ว\n• ชีสฟักทอง\n• Health AI (AI ประเมินอายุร่างกายและอวัยวะ)\n• บริการตรวจวัดความยาว Telomere (ตรวจวัดความชราของเซลล์ร่างกาย)\n• บริการเซลล์บำบัดรักษา (ซ่อมแซมและฟื้นฟูเซลล์ในร่างกาย)\n• บริการตรวจวิเคราะห์สารพันธุกรรมเชิงลึก (GeneWise)\n• บริการตรวจเพื่อบ่งชี้สุขภาพเมแทบอลิซึม (Metabolic Phenotyping)\n\n\n วันที่ : 25 มีนาคม 2569\n เวลา : 12.30 – 17.00 น.\n สถานที่ : ศูนย์นวัตกรรมและการวิจัยมิตรผล (ศูนย์ขอนแก่น) ชั้น 9 อาคารขอนแก่นอินโนเวชั่น เซ็นเตอร์ (KIC)\n\n\n ลงทะเบียนผ่าน QR CODE\n หรือคลิก : https://forms.gle/21qtzdHbMku5tHQ56\n สอบถามเพิ่มเติม : 095-636-4474 (คุณกอล์ฟ)
URL:https://kku.ac.th/th/event/%e0%b8%87%e0%b8%b2%e0%b8%99-kku-demo-day-%e0%b8%84%e0%b8%a3%e0%b8%b1%e0%b9%89%e0%b8%87%e0%b8%97%e0%b8%b5%e0%b9%88-4-2-2026/
LOCATION:Khon Kaen Innovation Center (KIC) : ขอนแก่น อินโนเวชั่น เซ็นเตอร์\, 999 ถนน ไก่ย่าง Tambon Nai Mueang\, Mueang Khon Kaen District\, Khon Kaen 40000\, Mueang Khon Kaen District\, Khon Kaen\, 40000\, Thailand
CATEGORIES:Non degree education,กิจกรรมนักศึกษา,กิจกรรมนักเรียน,กิจกรรมบุคลากร,ประชุม เสวนา,ประชุมสัมมนา,สิ่งแวดล้อม,สุขภาพ,หลักสูตรอบรม
ATTACH;FMTTYPE=image/jpeg:https://kku.ac.th/wp-content/uploads/2026/03/652268795_1374717764691241_3977238689181716763_n.jpg
ORGANIZER;CN="%E0%B8%A8%E0%B8%B9%E0%B8%99%E0%B8%A2%E0%B9%8C%E0%B8%AD%E0%B8%B3%E0%B8%99%E0%B8%A7%E0%B8%A2%E0%B8%81%E0%B8%B2%E0%B8%A3%E0%B9%83%E0%B8%99%E0%B8%81%E0%B8%B2%E0%B8%A3%E0%B8%9A%E0%B8%A3%E0%B8%B4%E0%B8%AB%E0%B8%B2%E0%B8%A3%E0%B8%88%E0%B8%B1%E0%B8%94%E0%B8%81%E0%B8%B2%E0%B8%A3%E0%B8%81%E0%B8%B2%E0%B8%A3%E0%B8%99%E0%B8%B3%E0%B8%9C%E0%B8%A5%E0%B8%B4%E0%B8%95%E0%B8%A0%E0%B8%B1%E0%B8%93%E0%B8%91%E0%B9%8C (KKU Enterprise)":MAILTO:kkuenterprise@gmail.com
END:VEVENT
END:VCALENDAR