BEGIN:VCALENDAR
VERSION:2.0
PRODID:-//Khon Kaen University - ECPv6.15.19//NONSGML v1.0//EN
CALSCALE:GREGORIAN
METHOD:PUBLISH
X-WR-CALNAME:Khon Kaen University
X-ORIGINAL-URL:https://kku.ac.th
X-WR-CALDESC:Events for Khon Kaen University
REFRESH-INTERVAL;VALUE=DURATION:PT1H
X-Robots-Tag:noindex
X-PUBLISHED-TTL:PT1H
BEGIN:VTIMEZONE
TZID:Asia/Bangkok
BEGIN:STANDARD
TZOFFSETFROM:+0700
TZOFFSETTO:+0700
TZNAME:+07
DTSTART:20230101T000000
END:STANDARD
END:VTIMEZONE
BEGIN:VEVENT
DTSTART;TZID=Asia/Bangkok:20241028T103000
DTEND;TZID=Asia/Bangkok:20241028T120000
DTSTAMP:20260422T000827
CREATED:20241022T025932Z
LAST-MODIFIED:20241022T025932Z
UID:203380-1730111400-1730116800@kku.ac.th
SUMMARY:แถลงข่าวผลสำเร็จของงานวิจัย  เรื่อง “ระบบอัตโนมัติเพื่อสนับสนุนการดำเนินการด้านบริหารจัดการน้ำในอ่างเก็บน้ำเขื่อนอุบลรัตน์”
DESCRIPTION:พิธีแถลงข่าวผลสำเร็จของงานวิจัย \nเรื่อง “ระบบอัตโนมัติเพื่อสนับสนุนการดำเนินการด้านบริหารจัดการน้ำในอ่างเก็บน้ำเขื่อนอุบลรัตน์” \nในวันจันทร์ที่ 28 ตุลาคม 2567 เวลา 10.30 – 12.00 น.\n \nณ ห้องสัมมนา 2 ชั้น 9 ตึกเพียรวิจิตร คณะวิศวกรรมศาสตร์ มหาวิทยาลัยขอนแก่น \n\n\n\nเวลา\nกิจกรรม\n\n\n10.30 – 11.00 น.\nลงทะเบียน\n\n\n11.00 – 11.05 น.\nพิธีกรกล่าวต้อนรับผู้บริหาร แขกผู้มีเกียรติ และสื่อมวลชน\n\n\n11.05 – 11.15 น.\nกล่าวรายงาน \nโดย รองศาสตราจารย์ปนิทัศน์ สุรียธนาภาส ผู้ช่วยคณบดีฝ่ายบัณฑิตศึกษาและวิเทศสัมพันธ์\n\n\n11.15 – 11.50 น.\nแถลงข่าวผลสำเร็จของงานวิจัยฯ \nโดย 1. คุณชาญณรงค์ จันทมงคล ผู้อำนวยการโรงไฟฟ้าพลังน้ำภาคตะวันออกเฉียงเหนือ \n2. รองศาสตราจารย์รัชพล สันติวรากร คณบดีคณะวิศวกรรมศาสตร์ มหาวิทยาลัยขอนแก่น \n3. รองศาสตราจารย์กิตติเวช ขันติยวิชัย หัวหน้าโครงการวิจัย\n\n\n11.50 – 12.00 น.\nถ่ายภาพร่วมกัน \n1. ภาพผู้ร่วมแถลงข่าว 3 ท่าน \n2. ภาพผู้ร่วมแถลงข่าว 3 ท่าน + ผู้บริหาร แขกผู้มีเกียรติที่เข้าร่วมงานแถลงข่าว
URL:https://kku.ac.th/th/event/%e0%b9%81%e0%b8%96%e0%b8%a5%e0%b8%87%e0%b8%82%e0%b9%88%e0%b8%b2%e0%b8%a7%e0%b8%9c%e0%b8%a5%e0%b8%aa%e0%b8%b3%e0%b9%80%e0%b8%a3%e0%b9%87%e0%b8%88%e0%b8%82%e0%b8%ad%e0%b8%87%e0%b8%87%e0%b8%b2%e0%b8%99/
LOCATION:คณะวิศวกรรมศาสตร์ มหาวิทยาลัยขอนแก่น
CATEGORIES:Non degree education,กิจกรรมนักศึกษา,กิจกรรมบุคลากร,พิธีลงนามความร่วมมือ,สื่อมวลชน
ATTACH;FMTTYPE=image/jpeg:https://kku.ac.th/wp-content/uploads/2024/10/kBUxdZbi.jpg
END:VEVENT
END:VCALENDAR