BEGIN:VCALENDAR
VERSION:2.0
PRODID:-//Khon Kaen University - ECPv6.15.19//NONSGML v1.0//EN
CALSCALE:GREGORIAN
METHOD:PUBLISH
X-WR-CALNAME:Khon Kaen University
X-ORIGINAL-URL:https://kku.ac.th
X-WR-CALDESC:Events for Khon Kaen University
REFRESH-INTERVAL;VALUE=DURATION:PT1H
X-Robots-Tag:noindex
X-PUBLISHED-TTL:PT1H
BEGIN:VTIMEZONE
TZID:Asia/Bangkok
BEGIN:STANDARD
TZOFFSETFROM:+0700
TZOFFSETTO:+0700
TZNAME:+07
DTSTART:20250101T000000
END:STANDARD
END:VTIMEZONE
BEGIN:VEVENT
DTSTART;VALUE=DATE:20260315
DTEND;VALUE=DATE:20260516
DTSTAMP:20260421T082630
CREATED:20260402T024159Z
LAST-MODIFIED:20260402T024159Z
UID:283257-1773532800-1778889599@kku.ac.th
SUMMARY:The National and International Academic Conference on Fine and Applied Arts 2026
DESCRIPTION:FAR 12 : Call for papers \n ลงทะเบียนและส่งบทคัดย่อ/บทความ\n ตั้งแต่วันที่ 15 มีนาคม – 15 พฤษภาคม 2569\n สอบถามเพิ่มเติมได้ที่ 043-348319\n ผู้ประสานงาน : คุณอรจิรา หัตถพนม\n โทร : 062-4485944\n\n\n งานประชุมวิชาการระดับชาติและนานาชาติ “ศิลปกรรมวิจัย” ประจำปี 2569\n The National and International Academic Conference on Fine and Applied Arts 2026\n——————————\n เปิดรับบทคัดย่อ/บทความ ภาษาไทยและภาษาอังกฤษ\nด้านทัศนศิลป์และการออกแบบ ด้านดนตรีและการแสดง และด้านประวัติศาสตร์และวัฒนธรรม\n Abstracts and full papers are invited in both Thai and English\, covering the fields of visual arts and design\, music and performance\, as well as history and cultural studies.\n——————————\n หัวข้อ (Theme) : “ปรากฏ เป็น ไท(ย)” Appearing Thai\, Appearing Unbound\nธีม “ปรากฏ เป็น ไท” ชวนสำรวจ “ความเป็นไทย” มิใช่ในฐานะอัตลักษณ์ที่หยุดนิ่ง หากแต่เป็นกระบวนการของการปรากฏ การถูกทำให้มองเห็น การแสดงออก และการกลายเป็น ภายใต้บริบททางศิลปะ วัฒนธรรม และสังคมร่วมสมัยในโลกศิลปะ “ความเป็นไทย” ไม่ได้ดำรงอยู่ล่วงหน้าอย่างตายตัว แต่เกิดขึ้นผ่านการปฏิบัติ การตีความ การสืบทอด การแปลงความหมาย และการสร้างสรรค์ใหม่ ศิลปะจึงเป็นพื้นที่ที่ความเป็นไทยถูกต่อรอง นิยามใหม่ และทำให้ปรากฏในหลากหลายรูปแบบ\n——————————\n โดยมีรูปแบบการนำเสนอดังนี้ (presentation formats)\n1. General panel\n2. Poster panel\n3. New Scholar panel\n4. Workshop panel\n5. Roundtable\n6. Performance panel\n\n\n website : https://far.kku.ac.th\n———-\n Registration and Submission of Abstracts/Full Papers\n March 15 – May 15\, 2026\n For further information\, please contact: +66 (0)43-348319\n Coordinator: Ms. Onjira Hattapanom\n Mobile: +66 (0)62-448-5944\n Website: https://far.kku.ac.t
URL:https://kku.ac.th/th/event/the-national-and-international-academic-conference-on-fine-and-applied-arts-2026/
LOCATION:คณะศิลปกรรมศาสตร์
CATEGORIES:การบรรยายพิเศษ,กิจกรรมนักศึกษา
ATTACH;FMTTYPE=image/jpeg:https://kku.ac.th/wp-content/uploads/2026/04/645702662_912111374948834_2160565218698950002_n.jpg
END:VEVENT
BEGIN:VEVENT
DTSTART;VALUE=DATE:20260723
DTEND;VALUE=DATE:20260726
DTSTAMP:20260421T082630
CREATED:20260318T065206Z
LAST-MODIFIED:20260318T065311Z
UID:280109-1784764800-1785023999@kku.ac.th
SUMMARY:งานประชุมวิชาการระดับนานาชาติ ครั้งที่ 4 The 4th International Conference on Thai for Foreigners (ICTF Conference 2026)
DESCRIPTION:เปิดรับบทความวิชาการ (Call for Papers) – ICTF Conference 2026\n เตรียมพบกับงานประชุมวิชาการระดับนานาชาติด้านการสอนภาษาไทยที่พลาดไม่ได้! \n\n\nศูนย์ภาษาและวัฒนธรรมไทย ขอเชิญชวนคณาจารย์ นักศึกษา และผู้ที่สนใจทุกท่าน\nเข้าร่วมงานประชุมวิชาการระดับนานาชาติ ครั้งที่ 4 The 4th International Conference on Thai for Foreigners (ICTF Conference 2026)\n\n\nในปีนี้มาพร้อมกับหัวข้อที่ทันสมัยและตอบโจทย์การศึกษาในยุคดิจิทัลอย่าง “AI in Teaching Thai for Foreigners” ซึ่งจัดโดย ศูนย์ภาษาและวัฒนธรรมไทย คณะมนุษยศาสตร์และสังคมศาสตร์ มหาวิทยาลัยขอนแก่น\n\n\n วันที่ 23-25 กรกฎาคม 2569\n• 23-24 ก.ค. 2569: งานประชุมวิชาการ (ICTF Conference 2026: AI in Teaching Thai for Foreigners)\n• 25 ก.ค. 2569: อบรมพิเศษ ภายใต้หัวข้อ “การพัฒนาเทคนิคการสอนให้ครูสอนภาษาไทยสำหรับชาวต่างชาติ (Train the Trainers Workshop)”\n\n\n รูปแบบการจัดงาน:\n• เข้าร่วมงานแบบ Onsite: ณ คณะมนุษยศาสตร์และสังคมศาสตร์ มหาวิทยาลัยขอนแก่น\n• เข้าร่วมงานแบบ Online: ผ่านโปรแกรม Zoom Meeting\n\n\n พบกับวิทยากรผู้ทรงคุณวุฒิจาก University of Leeds ณ สหราชอาณาจักร\n• Ajarn Adcharawan Seeger (Lecturer in Thai Language and Culture\, University of Leeds\, UK)\n• Prof. Dr. Martin Seeger (Professor of Thai Studies\, University of Leeds\, UK)\n\n\n Timeline สำคัญสำหรับผู้ที่ต้องการส่งบทความ (Call for Papers):\n• ส่งบทคัดย่อ (Abstract) หรือ บทความฉบับเต็ม (Full papers): ตั้งแต่วันนี้ – 30 มิถุนายน 2569\n• ประกาศผลการตอบรับ: ภายใน 7 วันหลังจากการส่งผลงาน\n• ชำระค่าลงทะเบียน: ภายในวันที่ 10 กรกฎาคม 2569\n\n\n เงื่อนไขเบื้องต้นในการส่งบทความ:\n• ส่งบทความเป็นภาษาอังกฤษหรือภาษาไทยก็ได้\n• บทความที่ส่งจะต้องไม่เคยถูกตีพิมพ์มาก่อน และไม่อยู่ระหว่างการพิจารณาจากงานประชุมหรือวารสารอื่น\n\n\n• รายละเอียดเพิ่มเติม ที่ลิงก์ https://drive.google.com/…/1lWQlexki…/view…\n\n\n• ส่งบทความได้ที่ลิงก์ https://forms.gle/o9zu1QfAGadVWxUX9 หรือสแกน QR Code\n\n\n ติดต่อสอบถามข้อมูลเพิ่มเติมได้ที่:\n• Email: itsdol@kku.ac.th\n• Facebook: Centre for Thai Language and Culture: CTLC- HUSO KKU\n• ศูนย์ภาษาและวัฒนธรรมไทย คณะมนุษยศาสตร์และสังคมศาสตร์ มหาวิทยาลัยขอนแก่น
URL:https://kku.ac.th/th/event/%e0%b8%87%e0%b8%b2%e0%b8%99%e0%b8%9b%e0%b8%a3%e0%b8%b0%e0%b8%8a%e0%b8%b8%e0%b8%a1%e0%b8%a7%e0%b8%b4%e0%b8%8a%e0%b8%b2%e0%b8%81%e0%b8%b2%e0%b8%a3%e0%b8%a3%e0%b8%b0%e0%b8%94%e0%b8%b1%e0%b8%9a%e0%b8%99/
LOCATION:คณะมนุษยศาสตร์และสังคมศาสตร์
CATEGORIES:การบรรยายพิเศษ,ประชุม เสวนา,ประชุมสัมมนา,หลักสูตรระยะสั้น,หลักสูตรอบรม
ATTACH;FMTTYPE=image/jpeg:https://kku.ac.th/wp-content/uploads/2026/03/654216257_1374177804745237_4636425081629053526_n.jpg
END:VEVENT
END:VCALENDAR